BEGIN:VCALENDAR
VERSION:2.0
PRODID:-//Tukios.com/
BEGIN:VEVENT
UID:c02c6bbc-d986-4343-9c4b-c2196e569314@www.brundagefuneralhome.com
DTSTAMP:20260419T120851Z
DTSTART:20260420T200000Z
DTEND:20260420T210000Z
SUMMARY:Inurnment
DESCRIPTION:
URL:https://www.brundagefuneralhome.com/obituaries/mary-hill
LOCATION: 934 Sweetwater Road  Dillon MT 59725
GEO:45.2182795;-112.6025612
END:VEVENT
END:VCALENDAR